Package: MultiAssayExperiment Version: 1.26.0 Command: /home/biocbuild/bbs-3.17-bioc/R/bin/R CMD check --install=check:MultiAssayExperiment.install-out.txt --library=/home/biocbuild/bbs-3.17-bioc/R/site-library --timings MultiAssayExperiment_1.26.0.tar.gz StartedAt: 2023-10-15 23:08:49 -0400 (Sun, 15 Oct 2023) EndedAt: 2023-10-15 23:12:55 -0400 (Sun, 15 Oct 2023) EllapsedTime: 246.8 seconds RetCode: 0 Status: OK CheckDir: MultiAssayExperiment.Rcheck Warnings: 0