Package: MultiAssayExperiment Version: 1.26.0 Command: /home/biocbuild/bbs-3.17-bioc/R/bin/R CMD build --keep-empty-dirs --no-resave-data MultiAssayExperiment StartedAt: 2023-10-15 17:35:39 -0400 (Sun, 15 Oct 2023) EndedAt: 2023-10-15 17:36:34 -0400 (Sun, 15 Oct 2023) EllapsedTime: 55.3 seconds RetCode: 0 Status: OK PackageFile: MultiAssayExperiment_1.26.0.tar.gz PackageFileSize: 1.125 MiB