Package: MultiAssayExperiment Version: 1.26.0 Command: /Library/Frameworks/R.framework/Resources/bin/R CMD build --keep-empty-dirs --no-resave-data MultiAssayExperiment StartedAt: 2023-10-15 19:46:26 -0400 (Sun, 15 Oct 2023) EndedAt: 2023-10-15 19:49:13 -0400 (Sun, 15 Oct 2023) EllapsedTime: 166.9 seconds RetCode: 0 Status: OK PackageFile: MultiAssayExperiment_1.26.0.tar.gz PackageFileSize: 1.13 MiB