Package: MultiAssayExperiment Version: 1.26.0 Command: rm -rf MultiAssayExperiment.buildbin-libdir && mkdir MultiAssayExperiment.buildbin-libdir && /Users/biocbuild/BBS/utils/build-universal.sh MultiAssayExperiment_1.26.0.tar.gz /Library/Frameworks/R.framework/Resources/bin/R MultiAssayExperiment.buildbin-libdir StartedAt: 2023-10-16 09:47:47 -0400 (Mon, 16 Oct 2023) EndedAt: 2023-10-16 09:49:31 -0400 (Mon, 16 Oct 2023) EllapsedTime: 103.9 seconds RetCode: 0 Status: OK PackageFile: MultiAssayExperiment_1.26.0.tgz PackageFileSize: 2.021 MiB