Package: Mulcom Version: 1.50.0 Command: /home/biocbuild/bbs-3.17-bioc/R/bin/R CMD INSTALL Mulcom StartedAt: 2023-10-15 15:13:38 -0400 (Sun, 15 Oct 2023) EndedAt: 2023-10-15 15:13:46 -0400 (Sun, 15 Oct 2023) EllapsedTime: 7.8 seconds RetCode: 0 Status: OK