Package: Mulcom Version: 1.50.0 Command: /home/biocbuild/bbs-3.17-bioc/R/bin/R CMD build --keep-empty-dirs --no-resave-data Mulcom StartedAt: 2023-10-15 17:35:39 -0400 (Sun, 15 Oct 2023) EndedAt: 2023-10-15 17:35:40 -0400 (Sun, 15 Oct 2023) EllapsedTime: 1.3 seconds RetCode: 0 Status: OK PackageFile: Mulcom_1.50.0.tar.gz PackageFileSize: 1.095 MiB