Package: Mulcom Version: 1.50.0 Command: /Library/Frameworks/R.framework/Resources/bin/R CMD INSTALL Mulcom StartedAt: 2023-10-15 15:10:58 -0400 (Sun, 15 Oct 2023) EndedAt: 2023-10-15 15:11:27 -0400 (Sun, 15 Oct 2023) EllapsedTime: 28.9 seconds RetCode: 0 Status: OK