Package: Mulcom Version: 1.50.0 Command: /Library/Frameworks/R.framework/Resources/bin/R CMD build --keep-empty-dirs --no-resave-data Mulcom StartedAt: 2023-10-15 19:46:24 -0400 (Sun, 15 Oct 2023) EndedAt: 2023-10-15 19:46:26 -0400 (Sun, 15 Oct 2023) EllapsedTime: 2.0 seconds RetCode: 0 Status: OK PackageFile: Mulcom_1.50.0.tar.gz PackageFileSize: 1.095 MiB