Package: MuData Version: 1.4.0 Command: /home/biocbuild/bbs-3.17-bioc/R/bin/R CMD build --keep-empty-dirs --no-resave-data MuData StartedAt: 2023-10-15 17:35:38 -0400 (Sun, 15 Oct 2023) EndedAt: 2023-10-15 17:37:59 -0400 (Sun, 15 Oct 2023) EllapsedTime: 141.2 seconds RetCode: 0 Status: OK PackageFile: MuData_1.4.0.tar.gz PackageFileSize: 1.875 MiB