Package: MuData Version: 1.4.0 Command: rm -rf MuData.buildbin-libdir && mkdir MuData.buildbin-libdir && /Users/biocbuild/BBS/utils/build-universal.sh MuData_1.4.0.tar.gz /Library/Frameworks/R.framework/Resources/bin/R MuData.buildbin-libdir StartedAt: 2023-10-16 09:47:41 -0400 (Mon, 16 Oct 2023) EndedAt: 2023-10-16 09:49:02 -0400 (Mon, 16 Oct 2023) EllapsedTime: 81.0 seconds RetCode: 0 Status: OK PackageFile: MuData_1.4.0.tgz PackageFileSize: 1.926 MiB