Package: MsExperiment Version: 1.2.0 Command: chmod a+r MsExperiment -R && F:\biocbuild\bbs-3.17-bioc\R\bin\R.exe CMD build --keep-empty-dirs --no-resave-data MsExperiment StartedAt: 2023-10-15 20:39:26 -0400 (Sun, 15 Oct 2023) EndedAt: 2023-10-15 21:19:26 -0400 (Sun, 15 Oct 2023) EllapsedTime: 2400.2 seconds RetCode: None Status: TIMEOUT PackageFile: None PackageFileSize: NA