Package: MsExperiment Version: 1.2.0 Command: rm -rf MsExperiment.buildbin-libdir && mkdir MsExperiment.buildbin-libdir && F:\biocbuild\bbs-3.17-bioc\R\bin\R.exe CMD INSTALL --build --library=MsExperiment.buildbin-libdir MsExperiment_1.2.0.tar.gz StartedAt: 2023-10-14 09:28:49 -0400 (Sat, 14 Oct 2023) EndedAt: 2023-10-14 09:29:22 -0400 (Sat, 14 Oct 2023) EllapsedTime: 33.1 seconds RetCode: 0 Status: OK PackageFile: MsExperiment_1.2.0.zip PackageFileSize: 1.399 MiB