Package: MsDataHub Version: 1.0.0 Command: F:\biocbuild\bbs-3.17-bioc\R\bin\R.exe CMD INSTALL MsDataHub StartedAt: 2023-10-15 17:03:10 -0400 (Sun, 15 Oct 2023) EndedAt: 2023-10-15 17:03:33 -0400 (Sun, 15 Oct 2023) EllapsedTime: 23.0 seconds RetCode: 0 Status: OK