Package: MsDataHub Version: 1.0.0 Command: /Library/Frameworks/R.framework/Resources/bin/R CMD build --keep-empty-dirs --no-resave-data MsDataHub StartedAt: 2023-10-15 19:41:33 -0400 (Sun, 15 Oct 2023) EndedAt: 2023-10-15 19:44:25 -0400 (Sun, 15 Oct 2023) EllapsedTime: 172.3 seconds RetCode: 0 Status: OK PackageFile: MsDataHub_1.0.0.tar.gz PackageFileSize: 364.7 KiB