Package: MsDataHub Version: 1.0.0 Command: rm -rf MsDataHub.buildbin-libdir && mkdir MsDataHub.buildbin-libdir && /Users/biocbuild/BBS/utils/build-universal.sh MsDataHub_1.0.0.tar.gz /Library/Frameworks/R.framework/Resources/bin/R MsDataHub.buildbin-libdir StartedAt: 2023-10-16 09:47:01 -0400 (Mon, 16 Oct 2023) EndedAt: 2023-10-16 09:48:11 -0400 (Mon, 16 Oct 2023) EllapsedTime: 69.7 seconds RetCode: 0 Status: OK PackageFile: MsDataHub_1.0.0.tgz PackageFileSize: 376.2 KiB