Package: MsCoreUtils Version: 1.12.0 Command: rm -rf MsCoreUtils.buildbin-libdir && mkdir MsCoreUtils.buildbin-libdir && F:\biocbuild\bbs-3.17-bioc\R\bin\R.exe CMD INSTALL --build --library=MsCoreUtils.buildbin-libdir MsCoreUtils_1.12.0.tar.gz StartedAt: 2023-10-16 09:07:52 -0400 (Mon, 16 Oct 2023) EndedAt: 2023-10-16 09:08:04 -0400 (Mon, 16 Oct 2023) EllapsedTime: 12.9 seconds RetCode: 0 Status: OK PackageFile: MsCoreUtils_1.12.0.zip PackageFileSize: 502.7 KiB