Package: MsCoreUtils Version: 1.12.0 Command: /Library/Frameworks/R.framework/Resources/bin/R CMD build --keep-empty-dirs --no-resave-data MsCoreUtils StartedAt: 2023-10-15 19:41:17 -0400 (Sun, 15 Oct 2023) EndedAt: 2023-10-15 19:41:42 -0400 (Sun, 15 Oct 2023) EllapsedTime: 25.1 seconds RetCode: 0 Status: OK PackageFile: MsCoreUtils_1.12.0.tar.gz PackageFileSize: 397.4 KiB