Package: MsCoreUtils Version: 1.12.0 Command: rm -rf MsCoreUtils.buildbin-libdir && mkdir MsCoreUtils.buildbin-libdir && /Users/biocbuild/BBS/utils/build-universal.sh MsCoreUtils_1.12.0.tar.gz /Library/Frameworks/R.framework/Resources/bin/R MsCoreUtils.buildbin-libdir StartedAt: 2023-10-16 09:47:00 -0400 (Mon, 16 Oct 2023) EndedAt: 2023-10-16 09:47:23 -0400 (Mon, 16 Oct 2023) EllapsedTime: 23.2 seconds RetCode: 0 Status: OK PackageFile: MsCoreUtils_1.12.0.tgz PackageFileSize: 496.2 KiB