Package: MsBackendSql Version: 1.0.1 Command: F:\biocbuild\bbs-3.17-bioc\R\bin\R.exe CMD check --no-multiarch --install=check:MsBackendSql.install-out.txt --library=F:\biocbuild\bbs-3.17-bioc\R\library --no-vignettes --timings MsBackendSql_1.0.1.tar.gz StartedAt: 2023-10-16 04:25:28 -0400 (Mon, 16 Oct 2023) EndedAt: 2023-10-16 04:31:12 -0400 (Mon, 16 Oct 2023) EllapsedTime: 343.6 seconds RetCode: 0 Status: OK CheckDir: MsBackendSql.Rcheck Warnings: 0