Package: MsBackendSql Version: 1.0.1 Command: rm -rf MsBackendSql.buildbin-libdir && mkdir MsBackendSql.buildbin-libdir && F:\biocbuild\bbs-3.17-bioc\R\bin\R.exe CMD INSTALL --build --library=MsBackendSql.buildbin-libdir MsBackendSql_1.0.1.tar.gz StartedAt: 2023-10-16 09:07:49 -0400 (Mon, 16 Oct 2023) EndedAt: 2023-10-16 09:08:11 -0400 (Mon, 16 Oct 2023) EllapsedTime: 21.4 seconds RetCode: 0 Status: OK PackageFile: MsBackendSql_1.0.1.zip PackageFileSize: 588 KiB