Package: MsBackendSql Version: 1.0.1 Command: /Library/Frameworks/R.framework/Resources/bin/R CMD INSTALL MsBackendSql StartedAt: 2023-10-15 15:21:40 -0400 (Sun, 15 Oct 2023) EndedAt: 2023-10-15 15:22:23 -0400 (Sun, 15 Oct 2023) EllapsedTime: 42.8 seconds RetCode: 0 Status: OK