Package: MsBackendSql Version: 1.0.1 Command: /Library/Frameworks/R.framework/Resources/bin/R CMD build --keep-empty-dirs --no-resave-data MsBackendSql StartedAt: 2023-10-15 19:41:01 -0400 (Sun, 15 Oct 2023) EndedAt: 2023-10-15 19:43:58 -0400 (Sun, 15 Oct 2023) EllapsedTime: 176.9 seconds RetCode: 0 Status: OK PackageFile: MsBackendSql_1.0.1.tar.gz PackageFileSize: 331.1 KiB