Package: MsBackendRawFileReader Version: 1.6.0 Command: F:\biocbuild\bbs-3.17-bioc\R\bin\R.exe CMD INSTALL MsBackendRawFileReader StartedAt: 2023-10-15 16:06:10 -0400 (Sun, 15 Oct 2023) EndedAt: 2023-10-15 16:06:25 -0400 (Sun, 15 Oct 2023) EllapsedTime: 15.2 seconds RetCode: 0 Status: OK