Package: MsBackendRawFileReader Version: 1.6.0 Command: chmod a+r MsBackendRawFileReader -R && F:\biocbuild\bbs-3.17-bioc\R\bin\R.exe CMD build --keep-empty-dirs --no-resave-data MsBackendRawFileReader StartedAt: 2023-10-15 20:39:05 -0400 (Sun, 15 Oct 2023) EndedAt: 2023-10-15 20:44:05 -0400 (Sun, 15 Oct 2023) EllapsedTime: 300.7 seconds RetCode: 0 Status: OK PackageFile: MsBackendRawFileReader_1.6.0.tar.gz PackageFileSize: 1.267 MiB