Package: MsBackendRawFileReader Version: 1.6.0 Command: rm -rf MsBackendRawFileReader.buildbin-libdir && mkdir MsBackendRawFileReader.buildbin-libdir && F:\biocbuild\bbs-3.17-bioc\R\bin\R.exe CMD INSTALL --build --library=MsBackendRawFileReader.buildbin-libdir MsBackendRawFileReader_1.6.0.tar.gz StartedAt: 2023-10-16 09:07:48 -0400 (Mon, 16 Oct 2023) EndedAt: 2023-10-16 09:08:06 -0400 (Mon, 16 Oct 2023) EllapsedTime: 17.9 seconds RetCode: 0 Status: OK PackageFile: MsBackendRawFileReader_1.6.0.zip PackageFileSize: 1.038 MiB