Package: MsBackendRawFileReader Version: 1.6.0 Command: /home/biocbuild/bbs-3.17-bioc/R/bin/R CMD INSTALL MsBackendRawFileReader StartedAt: 2023-10-15 15:17:17 -0400 (Sun, 15 Oct 2023) EndedAt: 2023-10-15 15:17:27 -0400 (Sun, 15 Oct 2023) EllapsedTime: 9.5 seconds RetCode: 0 Status: OK