Package: MsBackendRawFileReader Version: 1.6.0 Command: /home/biocbuild/bbs-3.17-bioc/R/bin/R CMD build --keep-empty-dirs --no-resave-data MsBackendRawFileReader StartedAt: 2023-10-15 17:33:29 -0400 (Sun, 15 Oct 2023) EndedAt: 2023-10-15 17:35:47 -0400 (Sun, 15 Oct 2023) EllapsedTime: 137.6 seconds RetCode: 0 Status: OK PackageFile: MsBackendRawFileReader_1.6.0.tar.gz PackageFileSize: 1.449 MiB