Package: MsBackendRawFileReader Version: 1.6.0 Command: /Library/Frameworks/R.framework/Resources/bin/R CMD INSTALL MsBackendRawFileReader StartedAt: 2023-10-15 15:22:36 -0400 (Sun, 15 Oct 2023) EndedAt: 2023-10-15 15:23:10 -0400 (Sun, 15 Oct 2023) EllapsedTime: 33.2 seconds RetCode: 0 Status: OK