Package: MsBackendMsp Version: 1.4.0 Command: /home/biocbuild/bbs-3.17-bioc/R/bin/R CMD build --keep-empty-dirs --no-resave-data MsBackendMsp StartedAt: 2023-10-15 17:33:21 -0400 (Sun, 15 Oct 2023) EndedAt: 2023-10-15 17:33:37 -0400 (Sun, 15 Oct 2023) EllapsedTime: 15.9 seconds RetCode: 0 Status: OK PackageFile: MsBackendMsp_1.4.0.tar.gz PackageFileSize: 320.9 KiB