Package: MsBackendMsp Version: 1.4.0 Command: /Library/Frameworks/R.framework/Resources/bin/R CMD build --keep-empty-dirs --no-resave-data MsBackendMsp StartedAt: 2023-10-15 19:40:56 -0400 (Sun, 15 Oct 2023) EndedAt: 2023-10-15 19:41:36 -0400 (Sun, 15 Oct 2023) EllapsedTime: 39.5 seconds RetCode: 0 Status: OK PackageFile: MsBackendMsp_1.4.0.tar.gz PackageFileSize: 320.8 KiB