Package: MsBackendMsp Version: 1.4.0 Command: rm -rf MsBackendMsp.buildbin-libdir && mkdir MsBackendMsp.buildbin-libdir && /Users/biocbuild/BBS/utils/build-universal.sh MsBackendMsp_1.4.0.tar.gz /Library/Frameworks/R.framework/Resources/bin/R MsBackendMsp.buildbin-libdir StartedAt: 2023-10-16 09:46:44 -0400 (Mon, 16 Oct 2023) EndedAt: 2023-10-16 09:47:16 -0400 (Mon, 16 Oct 2023) EllapsedTime: 31.8 seconds RetCode: 0 Status: OK PackageFile: MsBackendMsp_1.4.0.tgz PackageFileSize: 356.7 KiB