Package: MsBackendMgf Version: 1.8.0 Command: chmod a+r MsBackendMgf -R && F:\biocbuild\bbs-3.17-bioc\R\bin\R.exe CMD build --keep-empty-dirs --no-resave-data MsBackendMgf StartedAt: 2023-10-15 20:38:45 -0400 (Sun, 15 Oct 2023) EndedAt: 2023-10-15 20:39:04 -0400 (Sun, 15 Oct 2023) EllapsedTime: 19.1 seconds RetCode: 0 Status: OK PackageFile: MsBackendMgf_1.8.0.tar.gz PackageFileSize: 325.8 KiB