Package: MsBackendMgf Version: 1.8.0 Command: rm -rf MsBackendMgf.buildbin-libdir && mkdir MsBackendMgf.buildbin-libdir && F:\biocbuild\bbs-3.17-bioc\R\bin\R.exe CMD INSTALL --build --library=MsBackendMgf.buildbin-libdir MsBackendMgf_1.8.0.tar.gz StartedAt: 2023-10-16 09:07:45 -0400 (Mon, 16 Oct 2023) EndedAt: 2023-10-16 09:07:58 -0400 (Mon, 16 Oct 2023) EllapsedTime: 13.5 seconds RetCode: 0 Status: OK PackageFile: MsBackendMgf_1.8.0.zip PackageFileSize: 364 KiB