Package: MsBackendMgf Version: 1.8.0 Command: /home/biocbuild/bbs-3.17-bioc/R/bin/R CMD INSTALL MsBackendMgf StartedAt: 2023-10-15 15:18:53 -0400 (Sun, 15 Oct 2023) EndedAt: 2023-10-15 15:19:03 -0400 (Sun, 15 Oct 2023) EllapsedTime: 9.5 seconds RetCode: 0 Status: OK