Package: MsBackendMgf Version: 1.8.0 Command: /home/biocbuild/bbs-3.17-bioc/R/bin/R CMD check --install=check:MsBackendMgf.install-out.txt --library=/home/biocbuild/bbs-3.17-bioc/R/site-library --timings MsBackendMgf_1.8.0.tar.gz StartedAt: 2023-10-15 23:03:48 -0400 (Sun, 15 Oct 2023) EndedAt: 2023-10-15 23:05:06 -0400 (Sun, 15 Oct 2023) EllapsedTime: 78.0 seconds RetCode: 0 Status: OK CheckDir: MsBackendMgf.Rcheck Warnings: 0