Package: MsBackendMgf Version: 1.8.0 Command: /home/biocbuild/bbs-3.17-bioc/R/bin/R CMD build --keep-empty-dirs --no-resave-data MsBackendMgf StartedAt: 2023-10-15 17:33:17 -0400 (Sun, 15 Oct 2023) EndedAt: 2023-10-15 17:33:33 -0400 (Sun, 15 Oct 2023) EllapsedTime: 16.9 seconds RetCode: 0 Status: OK PackageFile: MsBackendMgf_1.8.0.tar.gz PackageFileSize: 325.8 KiB