Package: MsBackendMassbank Version: 1.8.0 Command: F:\biocbuild\bbs-3.17-bioc\R\bin\R.exe CMD INSTALL MsBackendMassbank StartedAt: 2023-10-15 16:07:47 -0400 (Sun, 15 Oct 2023) EndedAt: 2023-10-15 16:08:02 -0400 (Sun, 15 Oct 2023) EllapsedTime: 15.5 seconds RetCode: 0 Status: OK