Package: MsBackendMassbank Version: 1.8.0 Command: rm -rf MsBackendMassbank.buildbin-libdir && mkdir MsBackendMassbank.buildbin-libdir && F:\biocbuild\bbs-3.17-bioc\R\bin\R.exe CMD INSTALL --build --library=MsBackendMassbank.buildbin-libdir MsBackendMassbank_1.8.0.tar.gz StartedAt: 2023-10-16 09:07:43 -0400 (Mon, 16 Oct 2023) EndedAt: 2023-10-16 09:08:00 -0400 (Mon, 16 Oct 2023) EllapsedTime: 17.0 seconds RetCode: 0 Status: OK PackageFile: MsBackendMassbank_1.8.0.zip PackageFileSize: 610.3 KiB