Package: MsBackendMassbank Version: 1.8.0 Command: /home/biocbuild/bbs-3.17-bioc/R/bin/R CMD build --keep-empty-dirs --no-resave-data MsBackendMassbank StartedAt: 2023-10-15 17:33:06 -0400 (Sun, 15 Oct 2023) EndedAt: 2023-10-15 17:33:29 -0400 (Sun, 15 Oct 2023) EllapsedTime: 22.6 seconds RetCode: 0 Status: OK PackageFile: MsBackendMassbank_1.8.0.tar.gz PackageFileSize: 405.7 KiB