Package: MouseFM Version: 1.10.0 Command: chmod a+r MouseFM -R && F:\biocbuild\bbs-3.17-bioc\R\bin\R.exe CMD build --keep-empty-dirs --no-resave-data MouseFM StartedAt: 2023-10-15 20:36:59 -0400 (Sun, 15 Oct 2023) EndedAt: 2023-10-15 20:38:14 -0400 (Sun, 15 Oct 2023) EllapsedTime: 75.4 seconds RetCode: 0 Status: OK PackageFile: MouseFM_1.10.0.tar.gz PackageFileSize: 690.1 KiB