Package: MouseFM Version: 1.10.0 Command: /home/biocbuild/bbs-3.17-bioc/R/bin/R CMD check --install=check:MouseFM.install-out.txt --library=/home/biocbuild/bbs-3.17-bioc/R/site-library --timings MouseFM_1.10.0.tar.gz StartedAt: 2023-10-15 23:02:40 -0400 (Sun, 15 Oct 2023) EndedAt: 2023-10-15 23:08:27 -0400 (Sun, 15 Oct 2023) EllapsedTime: 347.0 seconds RetCode: 0 Status: OK CheckDir: MouseFM.Rcheck Warnings: 0