Package: MouseFM Version: 1.10.0 Command: /Library/Frameworks/R.framework/Resources/bin/R CMD check --install=check:MouseFM.install-out.txt --library=/Library/Frameworks/R.framework/Resources/library --no-vignettes --timings MouseFM_1.10.0.tar.gz StartedAt: 2023-10-16 04:14:09 -0400 (Mon, 16 Oct 2023) EndedAt: 2023-10-16 04:26:41 -0400 (Mon, 16 Oct 2023) EllapsedTime: 751.8 seconds RetCode: 0 Status: OK CheckDir: MouseFM.Rcheck Warnings: 0