Package: MotifDb Version: 1.42.0 Command: F:\biocbuild\bbs-3.17-bioc\R\bin\R.exe CMD check --no-multiarch --install=check:MotifDb.install-out.txt --library=F:\biocbuild\bbs-3.17-bioc\R\library --no-vignettes --timings MotifDb_1.42.0.tar.gz StartedAt: 2023-10-16 04:20:52 -0400 (Mon, 16 Oct 2023) EndedAt: 2023-10-16 04:25:47 -0400 (Mon, 16 Oct 2023) EllapsedTime: 295.3 seconds RetCode: 0 Status: WARNINGS CheckDir: MotifDb.Rcheck Warnings: 2