Package: MotifDb Version: 1.42.0 Command: /home/biocbuild/bbs-3.17-bioc/R/bin/R CMD INSTALL MotifDb StartedAt: 2023-10-15 15:19:50 -0400 (Sun, 15 Oct 2023) EndedAt: 2023-10-15 15:20:29 -0400 (Sun, 15 Oct 2023) EllapsedTime: 39.1 seconds RetCode: 0 Status: OK