Package: MotifDb Version: 1.42.0 Command: /Library/Frameworks/R.framework/Resources/bin/R CMD build --keep-empty-dirs --no-resave-data MotifDb StartedAt: 2023-10-15 19:38:22 -0400 (Sun, 15 Oct 2023) EndedAt: 2023-10-15 19:40:35 -0400 (Sun, 15 Oct 2023) EllapsedTime: 133.1 seconds RetCode: 0 Status: OK PackageFile: MotifDb_1.42.0.tar.gz PackageFileSize: 3.237 MiB