Package: MotifDb Version: 1.42.0 Command: rm -rf MotifDb.buildbin-libdir && mkdir MotifDb.buildbin-libdir && /Users/biocbuild/BBS/utils/build-universal.sh MotifDb_1.42.0.tar.gz /Library/Frameworks/R.framework/Resources/bin/R MotifDb.buildbin-libdir StartedAt: 2023-10-16 09:46:04 -0400 (Mon, 16 Oct 2023) EndedAt: 2023-10-16 09:48:30 -0400 (Mon, 16 Oct 2023) EllapsedTime: 145.4 seconds RetCode: 0 Status: OK PackageFile: MotifDb_1.42.0.tgz PackageFileSize: 3.544 MiB