Package: Motif2Site Version: 1.4.0 Command: /home/biocbuild/bbs-3.17-bioc/R/bin/R CMD INSTALL Motif2Site StartedAt: 2023-10-15 15:34:21 -0400 (Sun, 15 Oct 2023) EndedAt: 2023-10-15 15:34:24 -0400 (Sun, 15 Oct 2023) EllapsedTime: 3.3 seconds RetCode: 0 Status: OK