Package: Motif2Site Version: 1.4.0 Command: /Library/Frameworks/R.framework/Resources/bin/R CMD INSTALL Motif2Site StartedAt: 2023-10-15 15:59:51 -0400 (Sun, 15 Oct 2023) EndedAt: 2023-10-15 16:00:01 -0400 (Sun, 15 Oct 2023) EllapsedTime: 10.1 seconds RetCode: 0 Status: OK