Package: Motif2Site Version: 1.4.0 Command: rm -rf Motif2Site.buildbin-libdir && mkdir Motif2Site.buildbin-libdir && /Users/biocbuild/BBS/utils/build-universal.sh Motif2Site_1.4.0.tar.gz /Library/Frameworks/R.framework/Resources/bin/R Motif2Site.buildbin-libdir StartedAt: 2023-10-16 09:45:57 -0400 (Mon, 16 Oct 2023) EndedAt: 2023-10-16 09:46:09 -0400 (Mon, 16 Oct 2023) EllapsedTime: 12.7 seconds RetCode: 0 Status: OK PackageFile: Motif2Site_1.4.0.tgz PackageFileSize: 1.529 MiB