Package: MoonlightR Version: 1.26.1 Command: F:\biocbuild\bbs-3.17-bioc\R\bin\R.exe CMD INSTALL MoonlightR StartedAt: 2023-10-15 16:40:43 -0400 (Sun, 15 Oct 2023) EndedAt: 2023-10-15 16:41:32 -0400 (Sun, 15 Oct 2023) EllapsedTime: 49.6 seconds RetCode: 0 Status: OK